BEGIN:VCALENDAR
VERSION:2.0
METHOD:PUBLISH
CALSCALE:GREGORIAN
PRODID:-//Refresh Web Development//Helios Calendar//EN
X-FROM-URL:https://www.bayareascience.org/calendar/index.php?com=details&eID=35010
X-WR-RELCALID:BayAreaScience.org  NASA Spacecraft Swarms for Low Earth Orbit and Beyond 20240304T193000
X-WR-TIMEZONE:America/New_York
X-WR-CALNAME:BayAreaScience.org
BEGIN:VEVENT
URL;VALUE=URI:https://www.bayareascience.org/calendar/index.php?com=detail&eID=35010
DTSTART:20240304T193000
DTEND:20240304T210000
SUMMARY: NASA Spacecraft Swarms for Low Earth Orbit and Beyond
DESCRIPTION:\n______________________________\nThis Event Downloaded From a Helios Calendar Powered Site
LOCATION:California Academy of Sciences - 55 Music Concourse Dr. \, San Francisco\, CA USA 94118
CATEGORIES:BayAreaScience.org Events
PRIORITY:0
TRANSP:TRANSPARENT
END:VEVENT
END:VCALENDAR