BEGIN:VCALENDAR
VERSION:2.0
METHOD:PUBLISH
CALSCALE:GREGORIAN
PRODID:-//Refresh Web Development//Helios Calendar//EN
X-FROM-URL:https://www.bayareascience.org/calendar/index.php?com=details&eID=35011
X-WR-RELCALID:BayAreaScience.org WONKA and Loving Chocolate 20231217T130000
X-WR-TIMEZONE:America/New_York
X-WR-CALNAME:BayAreaScience.org
BEGIN:VEVENT
URL;VALUE=URI:https://www.bayareascience.org/calendar/index.php?com=detail&eID=35011
DTSTART:20231217T130000
DTEND:20231217T153000
SUMMARY:WONKA and Loving Chocolate
DESCRIPTION:"It comes...\n______________________________\nThis Event Downloaded From a Helios Calendar Powered Site
LOCATION:Cameo Cinema - 1340 Main St \, St. Helena\, CA  94574
CATEGORIES:BayAreaScience.org Events
PRIORITY:0
TRANSP:TRANSPARENT
END:VEVENT
END:VCALENDAR