BEGIN:VCALENDAR
VERSION:2.0
METHOD:PUBLISH
CALSCALE:GREGORIAN
PRODID:-//Refresh Web Development//Helios Calendar//EN
X-FROM-URL:https://www.bayareascience.org/calendar/index.php?com=details&eID=35024
X-WR-RELCALID:BayAreaScience.org  Nike Missile Site Veteran Open House 20241005T120000
X-WR-TIMEZONE:America/New_York
X-WR-CALNAME:BayAreaScience.org
BEGIN:VEVENT
URL;VALUE=URI:https://www.bayareascience.org/calendar/index.php?com=detail&eID=35024
DTSTART:20241005T120000
DTEND:20241005T150000
SUMMARY: Nike Missile Site Veteran Open House
DESCRIPTION:Veterans of the Nike program come to the site to share their stories with visitors and give guided tours of SF88 between the hours of 12pm - 3pmThe SF-88 Nike Missile Site is the most fully...\n______________________________\nThis Event Downloaded From a Helios Calendar Powered Site
LOCATION:Nike Missle Site - Field Rd \, Mill Valley\, CA  94941
CATEGORIES:BayAreaScience.org Events
PRIORITY:0
TRANSP:TRANSPARENT
END:VEVENT
END:VCALENDAR