BEGIN:VCALENDAR
VERSION:2.0
METHOD:PUBLISH
CALSCALE:GREGORIAN
PRODID:-//Refresh Web Development//Helios Calendar//EN
X-FROM-URL:https://www.bayareascience.org/calendar/index.php?com=details&eID=35031
X-WR-RELCALID:BayAreaScience.org Grid Enhancing Technologies - Applications for Transmission Asset Optimization and Policy Obstacles 20231207T133000
X-WR-TIMEZONE:America/New_York
X-WR-CALNAME:BayAreaScience.org
BEGIN:VEVENT
URL;VALUE=URI:https://www.bayareascience.org/calendar/index.php?com=detail&eID=35031
DTSTART:20231207T133000
DTEND:20231207T143000
SUMMARY:Grid Enhancing Technologies - Applications for Transmission Asset Optimization and Policy Obstacles
DESCRIPTION:There isnâ€™t enough transmission capacity today to deliver all the renewable energy on the grid\, much less plug in the terawatts of resources in interconnection queues. Utilities and system...\n______________________________\nThis Event Downloaded From a Helios Calendar Powered Site
LOCATION:Environment & Energy Building (Y2E2) - Stanford University \, Stanford\, CA  94305
CATEGORIES:BayAreaScience.org Events
PRIORITY:0
TRANSP:TRANSPARENT
END:VEVENT
END:VCALENDAR