BEGIN:VCALENDAR
VERSION:2.0
METHOD:PUBLISH
CALSCALE:GREGORIAN
PRODID:-//Refresh Web Development//Helios Calendar//EN
X-FROM-URL:https://www.bayareascience.org/calendar/index.php?com=details&eID=35032
X-WR-RELCALID:BayAreaScience.org After Dark: Find Your Glow 20231228T180000
X-WR-TIMEZONE:America/New_York
X-WR-CALNAME:BayAreaScience.org
BEGIN:VEVENT
URL;VALUE=URI:https://www.bayareascience.org/calendar/index.php?com=detail&eID=35032
DTSTART:20231228T180000
DTEND:20231228T220000
SUMMARY:After Dark: Find Your Glow
DESCRIPTION:Celebrate the end of the year at Exploratorium After Dark! Find your bliss among immersive light and sound experiences at our special exhibition Glow. Play LED dungeon crawlers and count it as...\n______________________________\nThis Event Downloaded From a Helios Calendar Powered Site
LOCATION:ExplOratorium - Pier 15 (Embarcadero at Green Street)  \, San Francisco\, CA USA 94111
CATEGORIES:BayAreaScience.org Events
PRIORITY:0
TRANSP:TRANSPARENT
END:VEVENT
END:VCALENDAR