BEGIN:VCALENDAR
VERSION:2.0
METHOD:PUBLISH
CALSCALE:GREGORIAN
PRODID:-//Refresh Web Development//Helios Calendar//EN
X-FROM-URL:https://www.bayareascience.org/calendar/index.php?com=details&eID=35034
X-WR-RELCALID:BayAreaScience.org Exploring Quantum Error Correction Frontier with Programmable Atom Arrays 20231212T160000
X-WR-TIMEZONE:America/New_York
X-WR-CALNAME:BayAreaScience.org
BEGIN:VEVENT
URL;VALUE=URI:https://www.bayareascience.org/calendar/index.php?com=detail&eID=35034
DTSTART:20231212T160000
DTEND:20231212T170000
SUMMARY:Exploring Quantum Error Correction Frontier with Programmable Atom Arrays
DESCRIPTION:\n______________________________\nThis Event Downloaded From a Helios Calendar Powered Site
LOCATION:Sutardja Dai Hall - UC Berkeley Banatao Auditorium\, Berkeley\, CA  94720
CATEGORIES:BayAreaScience.org Events
PRIORITY:0
TRANSP:TRANSPARENT
END:VEVENT
END:VCALENDAR