BEGIN:VCALENDAR
VERSION:2.0
METHOD:PUBLISH
CALSCALE:GREGORIAN
PRODID:-//Refresh Web Development//Helios Calendar//EN
X-FROM-URL:https://www.bayareascience.org/calendar/index.php?com=details&eID=35036
X-WR-RELCALID:BayAreaScience.org Computing the News: Data Journalism and the Search for Objectivity - Livestream 20240408T123000
X-WR-TIMEZONE:America/New_York
X-WR-CALNAME:BayAreaScience.org
BEGIN:VEVENT
URL;VALUE=URI:https://www.bayareascience.org/calendar/index.php?com=detail&eID=35036
DTSTART:20240408T123000
DTEND:20240408T123000
SUMMARY:Computing the News: Data Journalism and the Search for Objectivity - Livestream
DESCRIPTION:Faced with a full-blown crisis\, a growing number of journalists are engaging in seemingly unjournalistic practices such as creating and maintaining databases\, handling algorithms\, or designing...\n______________________________\nThis Event Downloaded From a Helios Calendar Powered Site
LOCATION:Berkeley Center for New Media -  \, \, CA  
CATEGORIES:BayAreaScience.org Events
PRIORITY:0
TRANSP:TRANSPARENT
END:VEVENT
END:VCALENDAR