BEGIN:VCALENDAR
VERSION:2.0
METHOD:PUBLISH
CALSCALE:GREGORIAN
PRODID:-//Refresh Web Development//Helios Calendar//EN
X-FROM-URL:https://www.bayareascience.org/calendar/index.php?com=details&eID=35037
X-WR-RELCALID:BayAreaScience.org First Friday: Close Encounters 20240105T180000
X-WR-TIMEZONE:America/New_York
X-WR-CALNAME:BayAreaScience.org
BEGIN:VEVENT
URL;VALUE=URI:https://www.bayareascience.org/calendar/index.php?com=detail&eID=35037
DTSTART:20240105T180000
DTEND:20240105T220000
SUMMARY:First Friday: Close Encounters
DESCRIPTION:Are we alone in the universe? Or could there be other forms of life out there\, waiting far away in the vast expanse of space? HearÂ from researchers\, astrobiologistsÂ and astronomersÂ on...\n______________________________\nThis Event Downloaded From a Helios Calendar Powered Site
LOCATION:Chabot Space and Science Center - 10000 Skyline Blvd \, Oakland\, CA USA 94619
CATEGORIES:BayAreaScience.org Events
PRIORITY:0
TRANSP:TRANSPARENT
END:VEVENT
END:VCALENDAR