BEGIN:VCALENDAR
VERSION:2.0
METHOD:PUBLISH
CALSCALE:GREGORIAN
PRODID:-//Refresh Web Development//Helios Calendar//EN
X-FROM-URL:https://www.bayareascience.org/calendar/index.php?com=details&eID=35039
X-WR-RELCALID:BayAreaScience.org First Friday: Celestial Cinema 20240202T180000
X-WR-TIMEZONE:America/New_York
X-WR-CALNAME:BayAreaScience.org
BEGIN:VEVENT
URL;VALUE=URI:https://www.bayareascience.org/calendar/index.php?com=detail&eID=35039
DTSTART:20240202T180000
DTEND:20240202T220000
SUMMARY:First Friday: Celestial Cinema
DESCRIPTION:Join Chabot in a galaxy far\, far away to get a behind-the-scenes look at how space films are made and put the science in science fiction with experts in the field of filmmaking. Create your own...\n______________________________\nThis Event Downloaded From a Helios Calendar Powered Site
LOCATION:Chabot Space and Science Center - 10000 Skyline Blvd \, Oakland\, CA USA 94619
CATEGORIES:BayAreaScience.org Events
PRIORITY:0
TRANSP:TRANSPARENT
END:VEVENT
END:VCALENDAR