BEGIN:VCALENDAR
VERSION:2.0
METHOD:PUBLISH
CALSCALE:GREGORIAN
PRODID:-//Refresh Web Development//Helios Calendar//EN
X-FROM-URL:https://www.bayareascience.org/calendar/index.php?com=details&eID=35043
X-WR-RELCALID:BayAreaScience.org  Putting Science to Work for Communities Facing Climate Threats 20231213T120000
X-WR-TIMEZONE:America/New_York
X-WR-CALNAME:BayAreaScience.org
BEGIN:VEVENT
URL;VALUE=URI:https://www.bayareascience.org/calendar/index.php?com=detail&eID=35043
DTSTART:20231213T120000
DTEND:20231213T130000
SUMMARY: Putting Science to Work for Communities Facing Climate Threats
DESCRIPTION:Peopleâ€™s lives and livelihoods depend on science. But when those lives and livelihoods are threatened by impacts of a changing climate\, how many of us know a scientist we can turn to who...\n______________________________\nThis Event Downloaded From a Helios Calendar Powered Site
LOCATION:Commonwealth Club - 110 The Embarcadero \, San Francisco\, CA  94105
CATEGORIES:BayAreaScience.org Events
PRIORITY:0
TRANSP:TRANSPARENT
END:VEVENT
END:VCALENDAR