BEGIN:VCALENDAR
VERSION:2.0
METHOD:PUBLISH
CALSCALE:GREGORIAN
PRODID:-//Refresh Web Development//Helios Calendar//EN
X-FROM-URL:https://www.bayareascience.org/calendar/index.php?com=details&eID=35044
X-WR-RELCALID:BayAreaScience.org  Say â€œGood Nightâ€ to Insomnia 20231214T173000
X-WR-TIMEZONE:America/New_York
X-WR-CALNAME:BayAreaScience.org
BEGIN:VEVENT
URL;VALUE=URI:https://www.bayareascience.org/calendar/index.php?com=detail&eID=35044
DTSTART:20231214T173000
DTEND:20231214T183000
SUMMARY: Say â€œGood Nightâ€ to Insomnia
DESCRIPTION:If you have trouble sleeping\, youâ€™re not alone: 50 - 70 million people in the United States struggle with ongoing sleep disorders. What many of us donâ€™t realize is that poor sleep...\n______________________________\nThis Event Downloaded From a Helios Calendar Powered Site
LOCATION:Commonwealth Club - 110 The Embarcadero \, San Francisco\, CA  94105
CATEGORIES:BayAreaScience.org Events
PRIORITY:0
TRANSP:TRANSPARENT
END:VEVENT
END:VCALENDAR