BEGIN:VCALENDAR
VERSION:2.0
METHOD:PUBLISH
CALSCALE:GREGORIAN
PRODID:-//Refresh Web Development//Helios Calendar//EN
X-FROM-URL:https://www.bayareascience.org/calendar/index.php?com=details&eID=35050
X-WR-RELCALID:BayAreaScience.org Fungi Fundamentals - Mushrooms of the Bay Area 20240111T190000
X-WR-TIMEZONE:America/New_York
X-WR-CALNAME:BayAreaScience.org
BEGIN:VEVENT
URL;VALUE=URI:https://www.bayareascience.org/calendar/index.php?com=detail&eID=35050
DTSTART:20240111T190000
DTEND:20240111T190000
SUMMARY:Fungi Fundamentals - Mushrooms of the Bay Area
DESCRIPTION:The unique ecosystem of the Bay Area's coastal redwoods provides an ideal setting for mushrooms to flourish. Join us for a cap-tivating online event as we explore and uncover more about...\n______________________________\nThis Event Downloaded From a Helios Calendar Powered Site
LOCATION:Peninsula Open Space Trust -  \, \, CA  
CATEGORIES:BayAreaScience.org Events
PRIORITY:0
TRANSP:TRANSPARENT
END:VEVENT
END:VCALENDAR