BEGIN:VCALENDAR
VERSION:2.0
METHOD:PUBLISH
CALSCALE:GREGORIAN
PRODID:-//Refresh Web Development//Helios Calendar//EN
X-FROM-URL:https://www.bayareascience.org/calendar/index.php?com=details&eID=35052
X-WR-RELCALID:BayAreaScience.org 50th Anniversary Santa Cruz Fungus Fair 20240112T140000
X-WR-TIMEZONE:America/New_York
X-WR-CALNAME:BayAreaScience.org
BEGIN:VEVENT
URL;VALUE=URI:https://www.bayareascience.org/calendar/index.php?com=detail&eID=35052
DTSTART:20240112T140000
DTEND:20240112T170000
SUMMARY:50th Anniversary Santa Cruz Fungus Fair
DESCRIPTION:Come to Santa Cruz and explore the facinating world of Fungi.Â Learn interesting and fun facts about the hundreds of beautiful and fascinating species of mushrooms found...\n______________________________\nThis Event Downloaded From a Helios Calendar Powered Site
LOCATION:London Nelson Community Center - 301 Center St \, Santa Cruz\, CA  95060
CATEGORIES:BayAreaScience.org Events
PRIORITY:0
TRANSP:TRANSPARENT
END:VEVENT
END:VCALENDAR