BEGIN:VCALENDAR
VERSION:2.0
METHOD:PUBLISH
CALSCALE:GREGORIAN
PRODID:-//Refresh Web Development//Helios Calendar//EN
X-FROM-URL:https://www.bayareascience.org/calendar/index.php?com=details&eID=35063
X-WR-RELCALID:BayAreaScience.org Geologic Hydrogen - A Critical Part of a Net-Zero Strategy? - CANCELED 20240226T163000
X-WR-TIMEZONE:America/New_York
X-WR-CALNAME:BayAreaScience.org
BEGIN:VEVENT
URL;VALUE=URI:https://www.bayareascience.org/calendar/index.php?com=detail&eID=35063
DTSTART:20240226T163000
DTEND:20240226T172000
SUMMARY:Geologic Hydrogen - A Critical Part of a Net-Zero Strategy? - CANCELED
DESCRIPTION:Hydrogen is projected to play a significant if not crucial role in the future energy mix\, with the IEA forecasting an increase of almost an order of magnitude compared to hydrogen consumption today....\n______________________________\nThis Event Downloaded From a Helios Calendar Powered Site
LOCATION:Stanford University Energy Seminar - Huang Science Center NVIDIA Auditorium\, Stanford\, CA  94305
CATEGORIES:BayAreaScience.org Events
PRIORITY:0
TRANSP:TRANSPARENT
END:VEVENT
END:VCALENDAR