BEGIN:VCALENDAR
VERSION:2.0
METHOD:PUBLISH
CALSCALE:GREGORIAN
PRODID:-//Refresh Web Development//Helios Calendar//EN
X-FROM-URL:https://www.bayareascience.org/calendar/index.php?com=details&eID=35065
X-WR-RELCALID:BayAreaScience.org Electric vehicle green charging with marginal emissions signals 20240311T163000
X-WR-TIMEZONE:America/New_York
X-WR-CALNAME:BayAreaScience.org
BEGIN:VEVENT
URL;VALUE=URI:https://www.bayareascience.org/calendar/index.php?com=detail&eID=35065
DTSTART:20240311T163000
DTEND:20240311T172000
SUMMARY:Electric vehicle green charging with marginal emissions signals
DESCRIPTION:Electric vehicles (EVs) are a promising clean transportation option\, but they still release CO2Â emissions when charging from the electricity grid. Often\, EV drivers charge their vehicles...\n______________________________\nThis Event Downloaded From a Helios Calendar Powered Site
LOCATION:Stanford University Energy Seminar - Huang Science Center NVIDIA Auditorium\, Stanford\, CA  94305
CATEGORIES:BayAreaScience.org Events
PRIORITY:0
TRANSP:TRANSPARENT
END:VEVENT
END:VCALENDAR