BEGIN:VCALENDAR
VERSION:2.0
METHOD:PUBLISH
CALSCALE:GREGORIAN
PRODID:-//Refresh Web Development//Helios Calendar//EN
X-FROM-URL:https://www.bayareascience.org/calendar/index.php?com=details&eID=35073
X-WR-RELCALID:BayAreaScience.org Sustainable Future Semiconductor Industry by Innovative Technologies: Transforming Physical Challenges into Growth Opportunities 20231213T160000
X-WR-TIMEZONE:America/New_York
X-WR-CALNAME:BayAreaScience.org
BEGIN:VEVENT
URL;VALUE=URI:https://www.bayareascience.org/calendar/index.php?com=detail&eID=35073
DTSTART:20231213T160000
DTEND:20231213T170000
SUMMARY:Sustainable Future Semiconductor Industry by Innovative Technologies: Transforming Physical Challenges into Growth Opportunities
DESCRIPTION:In...\n______________________________\nThis Event Downloaded From a Helios Calendar Powered Site
LOCATION:Soda Hall - UC Berkeley Room 306 (HP Auditorium)\, Berkeley\, CA  94720
CATEGORIES:BayAreaScience.org Events
PRIORITY:0
TRANSP:TRANSPARENT
END:VEVENT
END:VCALENDAR