BEGIN:VCALENDAR
VERSION:2.0
METHOD:PUBLISH
CALSCALE:GREGORIAN
PRODID:-//Refresh Web Development//Helios Calendar//EN
X-FROM-URL:https://www.bayareascience.org/calendar/index.php?com=details&eID=35075
X-WR-RELCALID:BayAreaScience.org The Physics Show (three performances) 20240106T100000
X-WR-TIMEZONE:America/New_York
X-WR-CALNAME:BayAreaScience.org
BEGIN:VEVENT
URL;VALUE=URI:https://www.bayareascience.org/calendar/index.php?com=detail&eID=35075
DTSTART:20240106T100000
DTEND:20240106T113000
SUMMARY:The Physics Show (three performances)
DESCRIPTION:The Physics ShowÂ is a fun science show for kids and their families.Â  These will be the exact same shows that were presented in September\,...\n______________________________\nThis Event Downloaded From a Helios Calendar Powered Site
LOCATION:Foothill College - 12345 El Monte Rd \, Los Altos Hills\, CA  94022
CATEGORIES:BayAreaScience.org Events
PRIORITY:0
TRANSP:TRANSPARENT
END:VEVENT
END:VCALENDAR