BEGIN:VCALENDAR
VERSION:2.0
METHOD:PUBLISH
CALSCALE:GREGORIAN
PRODID:-//Refresh Web Development//Helios Calendar//EN
X-FROM-URL:https://www.bayareascience.org/calendar/index.php?com=details&eID=35084
X-WR-RELCALID:BayAreaScience.org Telescope Moon Viewing - East Palo Alto 20231227T173000
X-WR-TIMEZONE:America/New_York
X-WR-CALNAME:BayAreaScience.org
BEGIN:VEVENT
URL;VALUE=URI:https://www.bayareascience.org/calendar/index.php?com=detail&eID=35084
DTSTART:20231227T173000
DTEND:20231227T190000
SUMMARY:Telescope Moon Viewing - East Palo Alto
DESCRIPTION:Join us as for an evening of sky watching. We will be using the libraries new telescopes to look up at the last full moon of 2023. This evening of sky gazing is suitable for patrons aged 6+ (with...\n______________________________\nThis Event Downloaded From a Helios Calendar Powered Site
LOCATION:East Palo Alto Public Library - 2415 University AVe \, East Palo Alto\, CA  94303
CATEGORIES:BayAreaScience.org Events
PRIORITY:0
TRANSP:TRANSPARENT
END:VEVENT
END:VCALENDAR