BEGIN:VCALENDAR
VERSION:2.0
METHOD:PUBLISH
CALSCALE:GREGORIAN
PRODID:-//Refresh Web Development//Helios Calendar//EN
X-FROM-URL:https://www.bayareascience.org/calendar/index.php?com=details&eID=35088
X-WR-RELCALID:BayAreaScience.org Telescope Moon Viewing - Belmont 20231228T180000
X-WR-TIMEZONE:America/New_York
X-WR-CALNAME:BayAreaScience.org
BEGIN:VEVENT
URL;VALUE=URI:https://www.bayareascience.org/calendar/index.php?com=detail&eID=35088
DTSTART:20231228T180000
DTEND:20231228T193000
SUMMARY:Telescope Moon Viewing - Belmont
DESCRIPTION:Join us as for an evening of sky watching. We will be using the libraries new telescopes to look up at the last full moon of 2023. This evening of sky gazing is suitable for patrons aged 6+ (with...\n______________________________\nThis Event Downloaded From a Helios Calendar Powered Site
LOCATION:Belmont Public Library - 1110 Alameda de las Pulgas \, Belmont\, CA  94002
CATEGORIES:BayAreaScience.org Events
PRIORITY:0
TRANSP:TRANSPARENT
END:VEVENT
END:VCALENDAR