BEGIN:VCALENDAR
VERSION:2.0
METHOD:PUBLISH
CALSCALE:GREGORIAN
PRODID:-//Refresh Web Development//Helios Calendar//EN
X-FROM-URL:https://www.bayareascience.org/calendar/index.php?com=details&eID=35091
X-WR-RELCALID:BayAreaScience.org SynBioBeta 2024: The Global Synthetic Biology Conference - Day 2 20240508
X-WR-TIMEZONE:America/New_York
X-WR-CALNAME:BayAreaScience.org
BEGIN:VEVENT
URL;VALUE=URI:https://www.bayareascience.org/calendar/index.php?com=detail&eID=35091
DTSTART;VALUE=DATE:20240508
DTEND;VALUE=DATE:20240509
SUMMARY:SynBioBeta 2024: The Global Synthetic Biology Conference - Day 2
DESCRIPTION:Join us for an unparalleled four-day summit delving into synthetic biology. Explore why the costs of reading\, writing\, and editing DNA plummet while speed and accessibility soar. Gain insights...\n______________________________\nThis Event Downloaded From a Helios Calendar Powered Site
LOCATION:San Jose McEnery Convention Center - 150 W San Carlos St \, San Jose\, CA  95113
CATEGORIES:BayAreaScience.org Events
PRIORITY:0
TRANSP:TRANSPARENT
END:VEVENT
END:VCALENDAR