BEGIN:VCALENDAR
VERSION:2.0
METHOD:PUBLISH
CALSCALE:GREGORIAN
PRODID:-//Refresh Web Development//Helios Calendar//EN
X-FROM-URL:https://www.bayareascience.org/calendar/index.php?com=details&eID=35095
X-WR-RELCALID:BayAreaScience.org  Bioanalytical Systems for Translational Research: From Microscale Cell Culture Platforms to Biofluid Self-Sampling Tools  20240207T120000
X-WR-TIMEZONE:America/New_York
X-WR-CALNAME:BayAreaScience.org
BEGIN:VEVENT
URL;VALUE=URI:https://www.bayareascience.org/calendar/index.php?com=detail&eID=35095
DTSTART:20240207T120000
DTEND:20240207T130000
SUMMARY: Bioanalytical Systems for Translational Research: From Microscale Cell Culture Platforms to Biofluid Self-Sampling Tools 
DESCRIPTION:Small molecule and protein signals provide a rich vocabulary for cellular communication. This talk will highlight new enabling methods to study chemical mechanisms underlying disease - spanning...\n______________________________\nThis Event Downloaded From a Helios Calendar Powered Site
LOCATION:Stanley Hall - UC Berkeley Room 105\, Berkeley\, CA  94720
CATEGORIES:BayAreaScience.org Events
PRIORITY:0
TRANSP:TRANSPARENT
END:VEVENT
END:VCALENDAR