BEGIN:VCALENDAR
VERSION:2.0
METHOD:PUBLISH
CALSCALE:GREGORIAN
PRODID:-//Refresh Web Development//Helios Calendar//EN
X-FROM-URL:https://www.bayareascience.org/calendar/index.php?com=details&eID=35100
X-WR-RELCALID:BayAreaScience.org Engineering Extracellular Matrix Viscoelasticity to Probe Cellular Responses 20240417T120000
X-WR-TIMEZONE:America/New_York
X-WR-CALNAME:BayAreaScience.org
BEGIN:VEVENT
URL;VALUE=URI:https://www.bayareascience.org/calendar/index.php?com=detail&eID=35100
DTSTART:20240417T120000
DTEND:20240417T130000
SUMMARY:Engineering Extracellular Matrix Viscoelasticity to Probe Cellular Responses
DESCRIPTION:In the body\, cells are surrounded by a scaffolding of biopolymers that provide physical support and biochemical cues\, known as the extracellular matrix (ECM). Hydrogel cell culture models have...\n______________________________\nThis Event Downloaded From a Helios Calendar Powered Site
LOCATION:Stanley Hall - UC Berkeley Room 105\, Berkeley\, CA  94720
CATEGORIES:BayAreaScience.org Events
PRIORITY:0
TRANSP:TRANSPARENT
END:VEVENT
END:VCALENDAR