BEGIN:VCALENDAR
VERSION:2.0
METHOD:PUBLISH
CALSCALE:GREGORIAN
PRODID:-//Refresh Web Development//Helios Calendar//EN
X-FROM-URL:https://www.bayareascience.org/calendar/index.php?com=details&eID=35107
X-WR-RELCALID:BayAreaScience.org Open Questions in the Structure and Composition of Gas Giants: From Jupiter to Hot Jupiters 20240119T120000
X-WR-TIMEZONE:America/New_York
X-WR-CALNAME:BayAreaScience.org
BEGIN:VEVENT
URL;VALUE=URI:https://www.bayareascience.org/calendar/index.php?com=detail&eID=35107
DTSTART:20240119T120000
DTEND:20240119T130000
SUMMARY:Open Questions in the Structure and Composition of Gas Giants: From Jupiter to Hot Jupiters
DESCRIPTION:Speaker: Jonathan Fortney\n______________________________\nThis Event Downloaded From a Helios Calendar Powered Site
LOCATION:Earth and Marine Sciences Building - UC Santa Cruz Room A340\, Santa Cruz\, CA  95064
CATEGORIES:BayAreaScience.org Events
PRIORITY:0
TRANSP:TRANSPARENT
END:VEVENT
END:VCALENDAR