BEGIN:VCALENDAR
VERSION:2.0
METHOD:PUBLISH
CALSCALE:GREGORIAN
PRODID:-//Refresh Web Development//Helios Calendar//EN
X-FROM-URL:https://www.bayareascience.org/calendar/index.php?com=details&eID=35122
X-WR-RELCALID:BayAreaScience.org Early Release Science with the James Webb Space Telescope: Nested Dust Shells Around the Wolf-Rayet Binary WR 140 20240221T190000
X-WR-TIMEZONE:America/New_York
X-WR-CALNAME:BayAreaScience.org
BEGIN:VEVENT
URL;VALUE=URI:https://www.bayareascience.org/calendar/index.php?com=detail&eID=35122
DTSTART:20240221T190000
DTEND:20240221T203000
SUMMARY:Early Release Science with the James Webb Space Telescope: Nested Dust Shells Around the Wolf-Rayet Binary WR 140
DESCRIPTION:Understanding the journey of stellar dust - the collection of heavy elements and formation of complex molecules - is crucial to understanding the later formation of planets\, organic compounds and...\n______________________________\nThis Event Downloaded From a Helios Calendar Powered Site
LOCATION:San Francisco Amateur Astronomers - Randall Museum 199 Museum Way\, San Francisco\, CA  94114
CATEGORIES:BayAreaScience.org Events
PRIORITY:0
TRANSP:TRANSPARENT
END:VEVENT
END:VCALENDAR