BEGIN:VCALENDAR
VERSION:2.0
METHOD:PUBLISH
CALSCALE:GREGORIAN
PRODID:-//Refresh Web Development//Helios Calendar//EN
X-FROM-URL:https://www.bayareascience.org/calendar/index.php?com=details&eID=35124
X-WR-RELCALID:BayAreaScience.org A Cosmic shadow theater: How galaxy silhouettes reveal their dark side 20240619T190000
X-WR-TIMEZONE:America/New_York
X-WR-CALNAME:BayAreaScience.org
BEGIN:VEVENT
URL;VALUE=URI:https://www.bayareascience.org/calendar/index.php?com=detail&eID=35124
DTSTART:20240619T190000
DTEND:20240619T203000
SUMMARY:A Cosmic shadow theater: How galaxy silhouettes reveal their dark side
DESCRIPTION:The afterglow from the Big Bang\, the "cosmic microwave background"\, acts as the backlight in a shadow theater where galaxies...\n______________________________\nThis Event Downloaded From a Helios Calendar Powered Site
LOCATION:San Francisco Amateur Astronomers - Randall Museum 199 Museum Way\, San Francisco\, CA  94114
CATEGORIES:BayAreaScience.org Events
PRIORITY:0
TRANSP:TRANSPARENT
END:VEVENT
END:VCALENDAR