BEGIN:VCALENDAR
VERSION:2.0
METHOD:PUBLISH
CALSCALE:GREGORIAN
PRODID:-//Refresh Web Development//Helios Calendar//EN
X-FROM-URL:https://www.bayareascience.org/calendar/index.php?com=details&eID=35129
X-WR-RELCALID:BayAreaScience.org  Living with Lions in the North Bay 20240121T110000
X-WR-TIMEZONE:America/New_York
X-WR-CALNAME:BayAreaScience.org
BEGIN:VEVENT
URL;VALUE=URI:https://www.bayareascience.org/calendar/index.php?com=detail&eID=35129
DTSTART:20240121T110000
DTEND:20240121T120000
SUMMARY: Living with Lions in the North Bay
DESCRIPTION:Come and discover the fascinating world of mountain lions with Living with Lions Education Coordinator Liz Martins and Marin County Parks ranger Alec.The presentation will cover how to coexist...\n______________________________\nThis Event Downloaded From a Helios Calendar Powered Site
LOCATION:Stafford Lake Park - 3549 Novato Blvd \, Novato\, CA  94947
CATEGORIES:BayAreaScience.org Events
PRIORITY:0
TRANSP:TRANSPARENT
END:VEVENT
END:VCALENDAR