BEGIN:VCALENDAR
VERSION:2.0
METHOD:PUBLISH
CALSCALE:GREGORIAN
PRODID:-//Refresh Web Development//Helios Calendar//EN
X-FROM-URL:https://www.bayareascience.org/calendar/index.php?com=details&eID=35132
X-WR-RELCALID:BayAreaScience.org After Dark: King Tides 20240111T180000
X-WR-TIMEZONE:America/New_York
X-WR-CALNAME:BayAreaScience.org
BEGIN:VEVENT
URL;VALUE=URI:https://www.bayareascience.org/calendar/index.php?com=detail&eID=35132
DTSTART:20240111T180000
DTEND:20240111T220000
SUMMARY:After Dark: King Tides
DESCRIPTION:Give yourself the royal treatment at tonightâ€™s After Dark. Learn about king tides - the non-scientific term for the highest tides of the year - with Exploratorium scientists and researchers....\n______________________________\nThis Event Downloaded From a Helios Calendar Powered Site
LOCATION:ExplOratorium - Pier 15 (Embarcadero at Green Street)  \, San Francisco\, CA USA 94111
CATEGORIES:BayAreaScience.org Events
PRIORITY:0
TRANSP:TRANSPARENT
END:VEVENT
END:VCALENDAR