BEGIN:VCALENDAR
VERSION:2.0
METHOD:PUBLISH
CALSCALE:GREGORIAN
PRODID:-//Refresh Web Development//Helios Calendar//EN
X-FROM-URL:https://www.bayareascience.org/calendar/index.php?com=details&eID=35133
X-WR-RELCALID:BayAreaScience.org Stewardship Saturday: Icing Out Iceplants 20240127T110000
X-WR-TIMEZONE:America/New_York
X-WR-CALNAME:BayAreaScience.org
BEGIN:VEVENT
URL;VALUE=URI:https://www.bayareascience.org/calendar/index.php?com=detail&eID=35133
DTSTART:20240127T110000
DTEND:20240127T150000
SUMMARY:Stewardship Saturday: Icing Out Iceplants
DESCRIPTION:Help protect our beaches with The Marine Mammal Center and Sonoma County Parks! Through this event you will learn about the impact of the iceplant along our coastal ecosystems and support in removing...\n______________________________\nThis Event Downloaded From a Helios Calendar Powered Site
LOCATION:Doran Regional Park - 201 Doarn Beach Rd First Pullout\, Bodega Bay\, CA  94923
CATEGORIES:BayAreaScience.org Events
PRIORITY:0
TRANSP:TRANSPARENT
END:VEVENT
END:VCALENDAR