BEGIN:VCALENDAR
VERSION:2.0
METHOD:PUBLISH
CALSCALE:GREGORIAN
PRODID:-//Refresh Web Development//Helios Calendar//EN
X-FROM-URL:https://www.bayareascience.org/calendar/index.php?com=details&eID=35135
X-WR-RELCALID:BayAreaScience.org Getting Ready for Californiaâ€™s New Electrical Grid: A Conversation with KALW 20240123T180000
X-WR-TIMEZONE:America/New_York
X-WR-CALNAME:BayAreaScience.org
BEGIN:VEVENT
URL;VALUE=URI:https://www.bayareascience.org/calendar/index.php?com=detail&eID=35135
DTSTART:20240123T180000
DTEND:20240123T190000
SUMMARY:Getting Ready for Californiaâ€™s New Electrical Grid: A Conversation with KALW
DESCRIPTION:Californiaâ€™s electrical grid is getting cleaner every day. Yet most people in the Bay Area still burn fossil fuels to heat their homes and get hot water for their showers - a major contributor...\n______________________________\nThis Event Downloaded From a Helios Calendar Powered Site
LOCATION:KALW @ 220 Montgomery - 220 Montgomery St \, San Francisco\, CA  94104
CATEGORIES:BayAreaScience.org Events
PRIORITY:0
TRANSP:TRANSPARENT
END:VEVENT
END:VCALENDAR