BEGIN:VCALENDAR
VERSION:2.0
METHOD:PUBLISH
CALSCALE:GREGORIAN
PRODID:-//Refresh Web Development//Helios Calendar//EN
X-FROM-URL:https://www.bayareascience.org/calendar/index.php?com=details&eID=35138
X-WR-RELCALID:BayAreaScience.org Conservation Priorities and Environmental Offsets: Markets for Florida Wetlands 20240320T121000
X-WR-TIMEZONE:America/New_York
X-WR-CALNAME:BayAreaScience.org
BEGIN:VEVENT
URL;VALUE=URI:https://www.bayareascience.org/calendar/index.php?com=detail&eID=35138
DTSTART:20240320T121000
DTEND:20240320T133000
SUMMARY:Conservation Priorities and Environmental Offsets: Markets for Florida Wetlands
DESCRIPTION:We introduce an empirical...\n______________________________\nThis Event Downloaded From a Helios Calendar Powered Site
LOCATION:Giannini Hall - UC Berkeley Room 241\, Berkeley\, CA  94720
CATEGORIES:BayAreaScience.org Events
PRIORITY:0
TRANSP:TRANSPARENT
END:VEVENT
END:VCALENDAR