BEGIN:VCALENDAR
VERSION:2.0
METHOD:PUBLISH
CALSCALE:GREGORIAN
PRODID:-//Refresh Web Development//Helios Calendar//EN
X-FROM-URL:https://www.bayareascience.org/calendar/index.php?com=details&eID=35139
X-WR-RELCALID:BayAreaScience.org Unintended Environmental Consequences of Investment Stimulus Policy 20240311T141000
X-WR-TIMEZONE:America/New_York
X-WR-CALNAME:BayAreaScience.org
BEGIN:VEVENT
URL;VALUE=URI:https://www.bayareascience.org/calendar/index.php?com=detail&eID=35139
DTSTART:20240311T141000
DTEND:20240311T153000
SUMMARY:Unintended Environmental Consequences of Investment Stimulus Policy
DESCRIPTION:We study the unintended environmental...\n______________________________\nThis Event Downloaded From a Helios Calendar Powered Site
LOCATION:Evans Hall - UC Berkeley Room 648\, Berkeley\, CA  94720
CATEGORIES:BayAreaScience.org Events
PRIORITY:0
TRANSP:TRANSPARENT
END:VEVENT
END:VCALENDAR