BEGIN:VCALENDAR
VERSION:2.0
METHOD:PUBLISH
CALSCALE:GREGORIAN
PRODID:-//Refresh Web Development//Helios Calendar//EN
X-FROM-URL:https://www.bayareascience.org/calendar/index.php?com=details&eID=35141
X-WR-RELCALID:BayAreaScience.org Supermassive Black Holes from AU to Megaparsec: Fundamentally New Physics in Accretion Disks 20240122T161500
X-WR-TIMEZONE:America/New_York
X-WR-CALNAME:BayAreaScience.org
BEGIN:VEVENT
URL;VALUE=URI:https://www.bayareascience.org/calendar/index.php?com=detail&eID=35141
DTSTART:20240122T161500
DTEND:20240122T171500
SUMMARY:Supermassive Black Holes from AU to Megaparsec: Fundamentally New Physics in Accretion Disks
DESCRIPTION:Supermassive black holes at the centers of galaxies present unsolved theoretical challenges for our understanding of high-energy astrophysics\, gravity and gravitational waves\, star and galaxy formation\,...\n______________________________\nThis Event Downloaded From a Helios Calendar Powered Site
LOCATION:Physics North - UC Berkeley Room 1\, Berkeley\, CA  94720
CATEGORIES:BayAreaScience.org Events
PRIORITY:0
TRANSP:TRANSPARENT
END:VEVENT
END:VCALENDAR