BEGIN:VCALENDAR
VERSION:2.0
METHOD:PUBLISH
CALSCALE:GREGORIAN
PRODID:-//Refresh Web Development//Helios Calendar//EN
X-FROM-URL:https://www.bayareascience.org/calendar/index.php?com=details&eID=35143
X-WR-RELCALID:BayAreaScience.org  The Search for Wavy Dark Matter: Axions ABRACADABRA to DMRadio  20240205T161500
X-WR-TIMEZONE:America/New_York
X-WR-CALNAME:BayAreaScience.org
BEGIN:VEVENT
URL;VALUE=URI:https://www.bayareascience.org/calendar/index.php?com=detail&eID=35143
DTSTART:20240205T161500
DTEND:20240205T171500
SUMMARY: The Search for Wavy Dark Matter: Axions ABRACADABRA to DMRadio 
DESCRIPTION:The particle nature of dark matter remains one of the great open questions in physics. There is a broad category of candidates whose mass is so light that they behave more as waves than as particles....\n______________________________\nThis Event Downloaded From a Helios Calendar Powered Site
LOCATION:Physics North - UC Berkeley Room 1\, Berkeley\, CA  94720
CATEGORIES:BayAreaScience.org Events
PRIORITY:0
TRANSP:TRANSPARENT
END:VEVENT
END:VCALENDAR