BEGIN:VCALENDAR
VERSION:2.0
METHOD:PUBLISH
CALSCALE:GREGORIAN
PRODID:-//Refresh Web Development//Helios Calendar//EN
X-FROM-URL:https://www.bayareascience.org/calendar/index.php?com=details&eID=35145
X-WR-RELCALID:BayAreaScience.org On the many-body physics of embryonic development  20240226T161500
X-WR-TIMEZONE:America/New_York
X-WR-CALNAME:BayAreaScience.org
BEGIN:VEVENT
URL;VALUE=URI:https://www.bayareascience.org/calendar/index.php?com=detail&eID=35145
DTSTART:20240226T161500
DTEND:20240226T171500
SUMMARY:On the many-body physics of embryonic development 
DESCRIPTION:While the complexity and robustness of embryonic development are plain to see\, a physicist might ask whether there are simple principles that underlie them. Can we ever have a â€œTheoryâ€...\n______________________________\nThis Event Downloaded From a Helios Calendar Powered Site
LOCATION:Physics North - UC Berkeley Room 1\, Berkeley\, CA  94720
CATEGORIES:BayAreaScience.org Events
PRIORITY:0
TRANSP:TRANSPARENT
END:VEVENT
END:VCALENDAR