BEGIN:VCALENDAR
VERSION:2.0
METHOD:PUBLISH
CALSCALE:GREGORIAN
PRODID:-//Refresh Web Development//Helios Calendar//EN
X-FROM-URL:https://www.bayareascience.org/calendar/index.php?com=details&eID=35147
X-WR-RELCALID:BayAreaScience.org Manipulating the symmetry of charge order with light 20240311T161500
X-WR-TIMEZONE:America/New_York
X-WR-CALNAME:BayAreaScience.org
BEGIN:VEVENT
URL;VALUE=URI:https://www.bayareascience.org/calendar/index.php?com=detail&eID=35147
DTSTART:20240311T161500
DTEND:20240311T171500
SUMMARY:Manipulating the symmetry of charge order with light
DESCRIPTION:New experimental tools can provide unexpected insights that can resolve `blind men and the elephantâ€™ type issues that we often encounter in the study of complex materials. In this work we...\n______________________________\nThis Event Downloaded From a Helios Calendar Powered Site
LOCATION:Physics North - UC Berkeley Room 1\, Berkeley\, CA  94720
CATEGORIES:BayAreaScience.org Events
PRIORITY:0
TRANSP:TRANSPARENT
END:VEVENT
END:VCALENDAR