BEGIN:VCALENDAR
VERSION:2.0
METHOD:PUBLISH
CALSCALE:GREGORIAN
PRODID:-//Refresh Web Development//Helios Calendar//EN
X-FROM-URL:https://www.bayareascience.org/calendar/index.php?com=details&eID=35151
X-WR-RELCALID:BayAreaScience.org First Day Hikes 20240101
X-WR-TIMEZONE:America/New_York
X-WR-CALNAME:BayAreaScience.org
BEGIN:VEVENT
URL;VALUE=URI:https://www.bayareascience.org/calendar/index.php?com=detail&eID=35151
DTSTART;VALUE=DATE:20240101
DTEND;VALUE=DATE:20240102
SUMMARY:First Day Hikes
DESCRIPTION:California State Parks are hosting First Day Hikes at several state park locations around the Bay Area.Â  Locations include:Angel IslandBig Basin RedwoodsMurray...\n______________________________\nThis Event Downloaded From a Helios Calendar Powered Site
LOCATION:Various California State Parks -  \, \, CA  
CATEGORIES:BayAreaScience.org Events
PRIORITY:0
TRANSP:TRANSPARENT
END:VEVENT
END:VCALENDAR