BEGIN:VCALENDAR
VERSION:2.0
METHOD:PUBLISH
CALSCALE:GREGORIAN
PRODID:-//Refresh Web Development//Helios Calendar//EN
X-FROM-URL:https://www.bayareascience.org/calendar/index.php?com=details&eID=35152
X-WR-RELCALID:BayAreaScience.org The Apes & Us: A Century of Representations of Our Closest Relatives Opening Event 20240112T180000
X-WR-TIMEZONE:America/New_York
X-WR-CALNAME:BayAreaScience.org
BEGIN:VEVENT
URL;VALUE=URI:https://www.bayareascience.org/calendar/index.php?com=detail&eID=35152
DTSTART:20240112T180000
DTEND:20240112T190000
SUMMARY:The Apes & Us: A Century of Representations of Our Closest Relatives Opening Event
DESCRIPTION:\n______________________________\nThis Event Downloaded From a Helios Calendar Powered Site
LOCATION:Hohbach Hall\, Room 122 - 557 Escondido Mall Stanford University\, Stanford\, CA  94304
CATEGORIES:BayAreaScience.org Events
PRIORITY:0
TRANSP:TRANSPARENT
END:VEVENT
END:VCALENDAR