BEGIN:VCALENDAR
VERSION:2.0
METHOD:PUBLISH
CALSCALE:GREGORIAN
PRODID:-//Refresh Web Development//Helios Calendar//EN
X-FROM-URL:https://www.bayareascience.org/calendar/index.php?com=details&eID=35154
X-WR-RELCALID:BayAreaScience.org AI and Translation 20240313T170000
X-WR-TIMEZONE:America/New_York
X-WR-CALNAME:BayAreaScience.org
BEGIN:VEVENT
URL;VALUE=URI:https://www.bayareascience.org/calendar/index.php?com=detail&eID=35154
DTSTART:20240313T170000
DTEND:20240313T170000
SUMMARY:AI and Translation
DESCRIPTION:In a December 2023 op-ed in the New York Times\, pioneering artificial intelligence researcher and inventor of the worldâ€™s first global-scale online language translator De Kai writes\,...\n______________________________\nThis Event Downloaded From a Helios Calendar Powered Site
LOCATION:Stephens Hall - UC Berkeley Geballe Room\, Berkeley\, CA  94720
CATEGORIES:BayAreaScience.org Events
PRIORITY:0
TRANSP:TRANSPARENT
END:VEVENT
END:VCALENDAR