BEGIN:VCALENDAR
VERSION:2.0
METHOD:PUBLISH
CALSCALE:GREGORIAN
PRODID:-//Refresh Web Development//Helios Calendar//EN
X-FROM-URL:https://www.bayareascience.org/calendar/index.php?com=details&eID=35159
X-WR-RELCALID:BayAreaScience.org The Bureau of Linguistical Reality Performance Lecture 20240312T190000
X-WR-TIMEZONE:America/New_York
X-WR-CALNAME:BayAreaScience.org
BEGIN:VEVENT
URL;VALUE=URI:https://www.bayareascience.org/calendar/index.php?com=detail&eID=35159
DTSTART:20240312T190000
DTEND:20240312T190000
SUMMARY:The Bureau of Linguistical Reality Performance Lecture
DESCRIPTION:The Bureau of Linguistical Reality is a participatory artwork facilitated by artist Alicia Escott and Heidi Quante which collaborates with the public to create new words for feelings and experiences...\n______________________________\nThis Event Downloaded From a Helios Calendar Powered Site
LOCATION:The Interval at Long Now - 2 Marina Blvd Fort Mason Center\, San Francisco\, CA  94123
CATEGORIES:BayAreaScience.org Events
PRIORITY:0
TRANSP:TRANSPARENT
END:VEVENT
END:VCALENDAR