BEGIN:VCALENDAR
VERSION:2.0
METHOD:PUBLISH
CALSCALE:GREGORIAN
PRODID:-//Refresh Web Development//Helios Calendar//EN
X-FROM-URL:https://www.bayareascience.org/calendar/index.php?com=details&eID=35161
X-WR-RELCALID:BayAreaScience.org  Searching for Trolls under the Electron Bridge  20240125T190000
X-WR-TIMEZONE:America/New_York
X-WR-CALNAME:BayAreaScience.org
BEGIN:VEVENT
URL;VALUE=URI:https://www.bayareascience.org/calendar/index.php?com=detail&eID=35161
DTSTART:20240125T190000
DTEND:20240125T200000
SUMMARY: Searching for Trolls under the Electron Bridge 
DESCRIPTION:Plants draw energy for all their chemical reactions from sunlight. Why can't we? In theory\, this can be done by building a molecular bridge: Attach a molecule that absorbs light and gives...\n______________________________\nThis Event Downloaded From a Helios Calendar Powered Site
LOCATION:Stanford Linear Accelerator (SLAC) Public Lecture Series - 2575 Sand Hill Road\, Building 51 Kavli Auditorium\, Menlo Park\, CA  94025
CATEGORIES:BayAreaScience.org Events
PRIORITY:0
TRANSP:TRANSPARENT
END:VEVENT
END:VCALENDAR