BEGIN:VCALENDAR
VERSION:2.0
METHOD:PUBLISH
CALSCALE:GREGORIAN
PRODID:-//Refresh Web Development//Helios Calendar//EN
X-FROM-URL:https://www.bayareascience.org/calendar/index.php?com=details&eID=35169
X-WR-RELCALID:BayAreaScience.org Molecular Evidence of Anteroposterior Patterning in Adult Echinoderms or, Are Sea Stars All Head With No Body? 20240429T120000
X-WR-TIMEZONE:America/New_York
X-WR-CALNAME:BayAreaScience.org
BEGIN:VEVENT
URL;VALUE=URI:https://www.bayareascience.org/calendar/index.php?com=detail&eID=35169
DTSTART:20240429T120000
DTEND:20240429T125000
SUMMARY:Molecular Evidence of Anteroposterior Patterning in Adult Echinoderms or\, Are Sea Stars All Head With No Body?
DESCRIPTION:\n______________________________\nThis Event Downloaded From a Helios Calendar Powered Site
LOCATION:Sonoma State University - Biology Colloquium - 1801 E Cotati Ave Darwin Hall\, Room 103\, Rohnert Park\, CA  94928
CATEGORIES:BayAreaScience.org Events
PRIORITY:0
TRANSP:TRANSPARENT
END:VEVENT
END:VCALENDAR