BEGIN:VCALENDAR
VERSION:2.0
METHOD:PUBLISH
CALSCALE:GREGORIAN
PRODID:-//Refresh Web Development//Helios Calendar//EN
X-FROM-URL:https://www.bayareascience.org/calendar/index.php?com=details&eID=35183
X-WR-RELCALID:BayAreaScience.org Finding Aliens on Earth - Livestream 20240125T180000
X-WR-TIMEZONE:America/New_York
X-WR-CALNAME:BayAreaScience.org
BEGIN:VEVENT
URL;VALUE=URI:https://www.bayareascience.org/calendar/index.php?com=detail&eID=35183
DTSTART:20240125T180000
DTEND:20240125T180000
SUMMARY:Finding Aliens on Earth - Livestream
DESCRIPTION:Finding life outside of Earth is one of the most interesting topics of Planetary Science. Is life possible on other planets? If so\, on which ones? What would it be like\, and what would they use...\n______________________________\nThis Event Downloaded From a Helios Calendar Powered Site
LOCATION:Night Sky Network -  \, \, CA  
CATEGORIES:BayAreaScience.org Events
PRIORITY:0
TRANSP:TRANSPARENT
END:VEVENT
END:VCALENDAR