BEGIN:VCALENDAR
VERSION:2.0
METHOD:PUBLISH
CALSCALE:GREGORIAN
PRODID:-//Refresh Web Development//Helios Calendar//EN
X-FROM-URL:https://www.bayareascience.org/calendar/index.php?com=details&eID=35185
X-WR-RELCALID:BayAreaScience.org Computational Approaches for Understanding and Engineering Biomolecular Condensates 20240301T140000
X-WR-TIMEZONE:America/New_York
X-WR-CALNAME:BayAreaScience.org
BEGIN:VEVENT
URL;VALUE=URI:https://www.bayareascience.org/calendar/index.php?com=detail&eID=35185
DTSTART:20240301T140000
DTEND:20240301T150000
SUMMARY:Computational Approaches for Understanding and Engineering Biomolecular Condensates
DESCRIPTION:The interior of cells contains numerous components that must be carefully organized in space to fulfill a wide range of biological functions. The most common form of intracellular compartment does...\n______________________________\nThis Event Downloaded From a Helios Calendar Powered Site
LOCATION:Etcheverry Hall - UC Berkeley \, Berkeley\, CA  94720
CATEGORIES:BayAreaScience.org Events
PRIORITY:0
TRANSP:TRANSPARENT
END:VEVENT
END:VCALENDAR