BEGIN:VCALENDAR
VERSION:2.0
METHOD:PUBLISH
CALSCALE:GREGORIAN
PRODID:-//Refresh Web Development//Helios Calendar//EN
X-FROM-URL:https://www.bayareascience.org/calendar/index.php?com=details&eID=35190
X-WR-RELCALID:BayAreaScience.org Behind the Bark: What Noisy California Sea Lions and Other Marine Mammals Can Tell Us About the State of Our Ocean - Livestream 20240123T190000
X-WR-TIMEZONE:America/New_York
X-WR-CALNAME:BayAreaScience.org
BEGIN:VEVENT
URL;VALUE=URI:https://www.bayareascience.org/calendar/index.php?com=detail&eID=35190
DTSTART:20240123T190000
DTEND:20240123T203000
SUMMARY:Behind the Bark: What Noisy California Sea Lions and Other Marine Mammals Can Tell Us About the State of Our Ocean - Livestream
DESCRIPTION:The ACS San Francisco Bay Chapter is excited to kick off our 2024 speaker series with Dr. Jeff Boehm\, Chief External Relations Officer of The Marine Mammal Center. Thereâ€™s no one better...\n______________________________\nThis Event Downloaded From a Helios Calendar Powered Site
LOCATION:American Cetacean Society -  \, \, CA  
CATEGORIES:BayAreaScience.org Events
PRIORITY:0
TRANSP:TRANSPARENT
END:VEVENT
END:VCALENDAR