BEGIN:VCALENDAR
VERSION:2.0
METHOD:PUBLISH
CALSCALE:GREGORIAN
PRODID:-//Refresh Web Development//Helios Calendar//EN
X-FROM-URL:https://www.bayareascience.org/calendar/index.php?com=details&eID=35191
X-WR-RELCALID:BayAreaScience.org LLM + Graph Database for Retrieval Augmented Generation (RAG) 20240122T190000
X-WR-TIMEZONE:America/New_York
X-WR-CALNAME:BayAreaScience.org
BEGIN:VEVENT
URL;VALUE=URI:https://www.bayareascience.org/calendar/index.php?com=detail&eID=35191
DTSTART:20240122T190000
DTEND:20240122T203000
SUMMARY:LLM + Graph Database for Retrieval Augmented Generation (RAG)
DESCRIPTION:LLMs are often like the know-it-all at a bar - they can quickly and confidently produce realistic sounding answers to just about any question - even if the answers are complete fabrications. But...\n______________________________\nThis Event Downloaded From a Helios Calendar Powered Site
LOCATION:Intel Corporation - 3600 Juliette Ln \, Santa Clara\, CA  95054
CATEGORIES:BayAreaScience.org Events
PRIORITY:0
TRANSP:TRANSPARENT
END:VEVENT
END:VCALENDAR