BEGIN:VCALENDAR
VERSION:2.0
METHOD:PUBLISH
CALSCALE:GREGORIAN
PRODID:-//Refresh Web Development//Helios Calendar//EN
X-FROM-URL:https://www.bayareascience.org/calendar/index.php?com=details&eID=35194
X-WR-RELCALID:BayAreaScience.org Secrets of Award Winning Astrophotography - Livestream 20240116T193000
X-WR-TIMEZONE:America/New_York
X-WR-CALNAME:BayAreaScience.org
BEGIN:VEVENT
URL;VALUE=URI:https://www.bayareascience.org/calendar/index.php?com=detail&eID=35194
DTSTART:20240116T193000
DTEND:20240116T213000
SUMMARY:Secrets of Award Winning Astrophotography - Livestream
DESCRIPTION:Andy Campbell discusses all things Astro and awards\, providing valuable insights into entering the highly competitive world of Astrophotography competitions. During the presentation\,...\n______________________________\nThis Event Downloaded From a Helios Calendar Powered Site
LOCATION:San Jose Astronomical Society -  \, \, CA  
CATEGORIES:BayAreaScience.org Events
PRIORITY:0
TRANSP:TRANSPARENT
END:VEVENT
END:VCALENDAR