BEGIN:VCALENDAR
VERSION:2.0
METHOD:PUBLISH
CALSCALE:GREGORIAN
PRODID:-//Refresh Web Development//Helios Calendar//EN
X-FROM-URL:https://www.bayareascience.org/calendar/index.php?com=details&eID=35209
X-WR-RELCALID:BayAreaScience.org Looking for Leaves at Sanborn 20240427T103000
X-WR-TIMEZONE:America/New_York
X-WR-CALNAME:BayAreaScience.org
BEGIN:VEVENT
URL;VALUE=URI:https://www.bayareascience.org/calendar/index.php?com=detail&eID=35209
DTSTART:20240427T103000
DTEND:20240427T120000
SUMMARY:Looking for Leaves at Sanborn
DESCRIPTION:You can learn so much from a plant by looking at its leaves. Learn to ID some native species and how the native americans would utilize them in their daily life. It will be a great day for a hike...\n______________________________\nThis Event Downloaded From a Helios Calendar Powered Site
LOCATION:Sanborn Science and Nature Center - 16055 Sanborn Rd \, Saratoga\, CA  95070
CATEGORIES:BayAreaScience.org Events
PRIORITY:0
TRANSP:TRANSPARENT
END:VEVENT
END:VCALENDAR