BEGIN:VCALENDAR
VERSION:2.0
METHOD:PUBLISH
CALSCALE:GREGORIAN
PRODID:-//Refresh Web Development//Helios Calendar//EN
X-FROM-URL:https://www.bayareascience.org/calendar/index.php?com=details&eID=35212
X-WR-RELCALID:BayAreaScience.org Trustworthy autonomous Vehicles at a Large Scale, Safety, Generalization, and Social Good 20240119T150000
X-WR-TIMEZONE:America/New_York
X-WR-CALNAME:BayAreaScience.org
BEGIN:VEVENT
URL;VALUE=URI:https://www.bayareascience.org/calendar/index.php?com=detail&eID=35212
DTSTART:20240119T150000
DTEND:20240119T150000
SUMMARY:Trustworthy autonomous Vehicles at a Large Scale\, Safety\, Generalization\, and Social Good
DESCRIPTION:As...\n______________________________\nThis Event Downloaded From a Helios Calendar Powered Site
LOCATION:O'Brien Hall - UC Berkeley Room 212\, Berkeley\, CA  94720
CATEGORIES:BayAreaScience.org Events
PRIORITY:0
TRANSP:TRANSPARENT
END:VEVENT
END:VCALENDAR