BEGIN:VCALENDAR
VERSION:2.0
METHOD:PUBLISH
CALSCALE:GREGORIAN
PRODID:-//Refresh Web Development//Helios Calendar//EN
X-FROM-URL:https://www.bayareascience.org/calendar/index.php?com=details&eID=35215
X-WR-RELCALID:BayAreaScience.org A Rose Is a Rose by Any Other Name, or Is It? 20240116T190000
X-WR-TIMEZONE:America/New_York
X-WR-CALNAME:BayAreaScience.org
BEGIN:VEVENT
URL;VALUE=URI:https://www.bayareascience.org/calendar/index.php?com=detail&eID=35215
DTSTART:20240116T190000
DTEND:20240116T190000
SUMMARY:A Rose Is a Rose by Any Other Name\, or Is It?
DESCRIPTION:In this presentation\, J.R. Blair will explore scientific...\n______________________________\nThis Event Downloaded From a Helios Calendar Powered Site
LOCATION:Mycological Society of San Francisco - Randall Museum 199 Museum Way\, San Francisco\, CA  94114
CATEGORIES:BayAreaScience.org Events
PRIORITY:0
TRANSP:TRANSPARENT
END:VEVENT
END:VCALENDAR