BEGIN:VCALENDAR
VERSION:2.0
METHOD:PUBLISH
CALSCALE:GREGORIAN
PRODID:-//Refresh Web Development//Helios Calendar//EN
X-FROM-URL:https://www.bayareascience.org/calendar/index.php?com=details&eID=35217
X-WR-RELCALID:BayAreaScience.org What to Expect in 2024 20240104T143000
X-WR-TIMEZONE:America/New_York
X-WR-CALNAME:BayAreaScience.org
BEGIN:VEVENT
URL;VALUE=URI:https://www.bayareascience.org/calendar/index.php?com=detail&eID=35217
DTSTART:20240104T143000
DTEND:20240104T150000
SUMMARY:What to Expect in 2024
DESCRIPTION:The new year has begun\, and it's time for your favorite hosts - Franck Marchis and Beth Johnson - to run down some of the space science to look forward to in 2024! We will talk about launches\,...\n______________________________\nThis Event Downloaded From a Helios Calendar Powered Site
LOCATION:SETI Institute -  \, \, CA  
CATEGORIES:BayAreaScience.org Events
PRIORITY:0
TRANSP:TRANSPARENT
END:VEVENT
END:VCALENDAR